BEGIN:VCALENDAR
VERSION:2.0
PRODID:-//Event Kalender//DE
CALSCALE:GREGORIAN
METHOD:PUBLISH
BEGIN:VEVENT
UID:prec-1604@hockey-cottbus.de
DTSTAMP:20260424T135007Z
CREATED:20260423T210659Z
LAST-MODIFIED:20260423T210659Z
DTSTART;VALUE=DATE:20260509
DTEND;VALUE=DATE:20260510
SUMMARY:mU10 Freiberg
LOCATION:DE
URL:https://hockey-cottbus.de/events/mu10-freiberg/
CLASS:PUBLIC
STATUS:CONFIRMED
END:VEVENT
END:VCALENDAR
