BEGIN:VCALENDAR
VERSION:2.0
PRODID:-//Event Kalender//DE
CALSCALE:GREGORIAN
METHOD:PUBLISH
BEGIN:VEVENT
UID:prec-1606@hockey-cottbus.de
DTSTAMP:20260424T135121Z
CREATED:20260423T210747Z
LAST-MODIFIED:20260423T210747Z
DTSTART;VALUE=DATE:20260530
DTEND;VALUE=DATE:20260531
SUMMARY:mU10 Pillnitz
LOCATION:DE
URL:https://hockey-cottbus.de/events/mu10-pillnitz/
CLASS:PUBLIC
STATUS:CONFIRMED
END:VEVENT
END:VCALENDAR
