BEGIN:VCALENDAR
VERSION:2.0
PRODID:-//Event Kalender//DE
CALSCALE:GREGORIAN
METHOD:PUBLISH
BEGIN:VEVENT
UID:prec-1624@hockey-cottbus.de
DTSTAMP:20260424T134746Z
CREATED:20260423T211425Z
LAST-MODIFIED:20260423T211425Z
DTSTART;VALUE=DATE:20260510
DTEND;VALUE=DATE:20260628
SUMMARY:wU12 Leipzig (HCLG)
LOCATION:DE
URL:https://hockey-cottbus.de/events/wu12-leipzig-hclg/
CLASS:PUBLIC
STATUS:CONFIRMED
END:VEVENT
END:VCALENDAR
