BEGIN:VCALENDAR
VERSION:2.0
PRODID:-//Event Kalender//DE
CALSCALE:GREGORIAN
METHOD:PUBLISH
BEGIN:VEVENT
UID:prec-1626@hockey-cottbus.de
DTSTAMP:20260424T135514Z
CREATED:20260423T211504Z
LAST-MODIFIED:20260423T211504Z
DTSTART;VALUE=DATE:20260523
DTEND;VALUE=DATE:20260628
SUMMARY:wU12 Prag (Freundschaft)
LOCATION:DE
URL:https://hockey-cottbus.de/events/wu12-prag-freundschaft/
CLASS:PUBLIC
STATUS:CONFIRMED
END:VEVENT
END:VCALENDAR
