BEGIN:VCALENDAR
VERSION:2.0
PRODID:-//Event Kalender//DE
CALSCALE:GREGORIAN
METHOD:PUBLISH
BEGIN:VEVENT
UID:prec-1638@hockey-cottbus.de
DTSTAMP:20260424T134235Z
CREATED:20260423T211848Z
LAST-MODIFIED:20260423T211848Z
DTSTART;VALUE=DATE:20260509
DTEND;VALUE=DATE:20260628
SUMMARY:mU14 Elsterwerda
LOCATION:DE
URL:https://hockey-cottbus.de/events/mu14-elsterwerda/
CLASS:PUBLIC
STATUS:CONFIRMED
END:VEVENT
END:VCALENDAR
